Workbook
Name _: [1]Nap.!#REF!
Name _______xlnm_Print_Titles: #N/A
Name _Order1: 255
Name DAT_SIT: [2]O.pod.!$C$17
Name DATOTEKA: [2]O.pod.!$C$22
Name DATUM_DANAS: [1]O.pod.!$G$19
Name DIREKTOR: [1]O.pod.!$C$20
Name GRADJ: '[3]opci uvjeti'!$A$3
Name GRADJ: '[3]opci uvjeti'!$A$3
Name GRADJ: '[3]opci uvjeti'!$A$3
Name GRADJ: '[3]opci uvjeti'!$A$3
Name GRADJ: '[4]opci uvjeti'!$A$3
Name gradjevina: #REF!
Name gradjevina: #REF!
Name gradjevina: #REF!
Name gradjevina: #REF!
Name gradjevina: #REF!
Name INV: '[3]opci uvjeti'!$A$4
Name INV: '[3]opci uvjeti'!$A$4
Name INV: '[3]opci uvjeti'!$A$4
Name INV: '[3]opci uvjeti'!$A$4
Name INV: '[4]opci uvjeti'!$A$4
Name investitor: #REF!
Name investitor: #REF!
Name investitor: #REF!
Name investitor: #REF!
Name investitor: #REF!
Name IZVODITELJ: [1]O.pod.!$C$8
Name Kolnik_16.3.: '[5]16. Prometnice'!$G$277
Name lokacija: #REF!
Name lokacija: #REF!
Name lokacija: #REF!
Name lokacija: #REF!
Name lokacija: #REF!
Name MJESTO: [1]O.pod.!$G$6
Name OBRADIO: [1]O.pod.!$G$20
Name Odvod_16.4.: '[5]16. Prometnice'!$G$329
Name PODRUCJE: [1]O.pod.!$C$5
Name POPUST: [6]FAKTORI!$B$2
Name Pripr_16.1.: '[5]16. Prometnice'!$G$66
Name REALIZACIJA_1997: '[7]Osn-Pod'!$E$5
Name Sign_16.5.: '[5]16. Prometnice'!$G$408
Name Zem_16.2.: '[5]16. Prometnice'!$G$130

Sheet NASLOVNICA
A15: PROJEKTANTSKI
A16: TENDER
A17: Igralište Budimci
B21: INVESTITOR : | D21: OPĆINA PODGORAČ
D22: Trg P. Pejačevića 2, Podgorač
D23: OIB:43160540587
B25: GRAĐEVINA : | D25: Igralište Budimci
B28: LOKACIJA : | D28: Ulica Ante Starčevića, Budimci k.č.br. 1204, k.o. Budimci
B38: Našice, srpanj 2025. g.

Sheet OTU
A1: ='[3]opci uvjeti'!A1 -> VALENČAK d.o.o.
A2: NAŠICE, Trg dr. Franje Tuđmana 11
A3: GRAĐEVINA: Igralište Budimci
A4: INVESTITOR: Općina Podgorač, Trg P. Pejačevića 2, Podgorač
A6: OPĆI I TEHNIČKI UVJETI
A8: OPĆE NAPOMENE
A10: Ovim troškovnikom obuhvaćeni su svi radovi uređenja igrališta u naselju Budimci.
A12: Svaka izmjena Troškovnika koju nije odobrio projektant, uklanja u potpunosti odgovornosti Projektanta za predmetne izmjene te direktne i kolateralne posljedice istih u projektu.
A13: Stavke troškovnika obuhvaćaju konačno dovršenje radova definiranih po količini i kakvoći. Cijena pojedine stavke je konačna cijena za realizaciju pojedine troškovničke stavke, te obuhvaća i sve radnje koje u stavci nisu posebno navedene, a neophodne su za izvedbu pojedine stavke do potpune funkcionalne i pogonske gotovosti.
A14: Izvoditelj radova će na gradilištu voditi propisani dnevnik građenja u koji se unose svi podaci i događaji tijekom građenja, upisuju primjedbe projektanta, predstavnika investitora, nadzornog inženjera i pomoćnika nadzornog inženjera, te inspekcije. Uz dnevnik građenja izvoditelj mora voditi građevinsku knjigu, u koju će se prema ugovorenim stavcima unositi podaci za obračun. Prilog građevinske knjige su obračunski nacrti. Prihvatiti će se i kontrolirati samo građevinska knjiga koja je dostavljena u traženoj formi, sa svim potrebnim prilozima, te je jednoznačna u pogledu dokaza izvedenih količina.
A15: Količine radova koje nakon dovršenja cjelokupnog posla nije moguće provjeriti neposredno izmjerom, treba po izvršenju pojedinog takvog rada preuzeti od izvoditelja nadzorni inženjer, uz dostavu dokaznog materijala i fotodokumentacije. Svi radovi koji bi se izveli protivno opisanom postupku neće biti uzeti u obzir prilikom obračuna od strane nadzora i naručitelja.
A16: Ovlašteni predstavnik izvoditelja radova unosit će u građevinsku knjigu količine izvedenih radova sa svim potrebnim skicama i izmjerama uz kontrolu istih od strane nadzornog inženjera, te će svojim potpisima jamčiti za njihovu točnost. Samo tako utvrđeni radovi mogu se uzeti u obzir kod izrade privremenog ili konačnog obračuna radova.
A17: O ispitivanjima i pregledima vodi se posebna evidencija.
... A153: Ukoliko je ugovoreni termin izvršenja objekta uključen i zimski odnosno ljetni period, to se neće posebno izvoditelju priznavati na ime naknade za rad pri niskoj temperaturi, zaštita konstrukcija od hladnoće i vrućine, te atmosferskih nepogoda, sve mora biti uključeno u jedinični cijenu. Za vrijeme zime objekt se mora zaštititi. Svi eventualni smrznuti dijelovi moraju se ukloniti i izvesti ponovo bez bilo kakve naplate.

Sheet NASL_GR
A1: =OTU!A3 -> GRAĐEVINA: Igralište Budimci
A2: =OTU!A4 -> INVESTITOR: Općina Podgorač, Trg P. Pejačevića 2, Podgorač
A21: GRAĐEVINSKO-OBRTNIČKI RADOVI (Igralište Budimci)
A46: OPĆENITO
A48: Radove treba izvesti točno prema opisu troškovnika, a u stavkama gdje nije objašnjen način rada i posebne osobine finalnog produkta, izvođač je dužan pridržavati se uobičajenog načina rada, uvažavajući odredbe važećih standarda, uz obvezu izvedbe kvalitetnog proizvoda.
A49: Osim toga, izvođač je obvezan pridržavati se uputa projektanta/nadzora u svim pitanjima koja se odnose na izbor i obradu materijala i način izvedbe pojedinih detalja, ukoliko to nije već detaljno opisano troškovnikom, a naročito u slučajevima kada se zahtijeva izvedba van propisanih standarda.
A50: Sav materijal za izgradnju mora biti kvalitetan te mora odgovarati opisu troškovnika i postojećim građevinskim propisima.
A51: U slučaju da opis pojedine stavke nije dovoljno jasan, mjerodavna je samo uputa i tumačenje projektanta/nadzora. O tome se izvođač treba informirati već prilikom sastavljanja jedinične cijene.
A52: Cijene pojedinih radova moraju sadržavati sve elemente koji određuju cijenu gotovog proizvoda, a u skladu s odredbama troškovnika. Ako izvođač sumnja u valjanost ili kvalitetu nekog propisanog materijala i drži da za takvu izvedbu ne bi mogao preuzeti odgovornost, dužan je o tome obavijestiti projektanta s obrazloženjem i dokumentacijom. Konačnu odluku donosi projektant u suglasnosti s nadzornim inženjerom, nakon proučenog prijedloga izvođača.
A54: Izvođač mora postaviti zahtjeve kod nadležnih organa za uređenje i uklanjanje postrojenja bez sudjelovanja nalogodavca. Struja koju uzimaju druge tvrtke zaračunat će se direktno njima.
A56: Stavke troškovnika uključuju sav materijal i rad potreban za finalan i funkcionalan proizvod.
A58: Ukoliko određeni proizvodi nisu dostupni na tržištu privremeno ili trajno, dužnost i odgovornost je izvođača ponuditi adekvatnu zamjenu, a prije ugradnje zatražiti pisanu suglasnost projektantantskog i stručnog nadzora.
A60: GRAĐEVINSKI RADOVI
A62: PRIPREMNI RADOVI
... A144: U jediničnu cijenu projektirane opreme uključena je: - izrada radioničkih nacrta i prijedlog načina ugradbe od strane izvoditelja radova, te davanje na uvid i odobrenje projektantu koji mora pismeno odobriti izvedbu i ugradbu istog. - nabava i ugradba kvalitetnog materijala za izradu stavki koji mora biti u skladu s propisima HRNa, a oni za koje ne postoje moraju posjedovati ateste od odgovarajućih ustanova da odgovaraju predviđenoj namjeni. - prvoklasna izrada u radionici sa svim potrebnim priborom i sredstvima (prema detaljima, stavkama i opisima), te dostava na gradilište, - sav unutarnji (horizontalni i vertikalni) i vanjski transport do mjesta ugradbe, - kompletna montaža i ugradba na gradilištu sa dotjerivanjem do besprijekornog funkcioniranja svih pojedinih dijelova, - postava i skidanje eventualno potrebne radne skele, - završna obrada svih drvenih elemenata kako je u pojedinoj stavci označeno, - zaštita antikorozivnim sredstvima ili pocinčavanj, te ličenje u tonu i boji po izboru projektanta prema propisima HRN-a svih metalnih elemenata i veznih sredstava koja se ugrađuju na stolarskim ili uz stolarske elemente, - sva potrebna bušenja za pričvršćenje u zid, strop ili pod izvesti pažljivo, u suprotnom treba eventualna oštećenja popraviti na način da se uredi cijela ploha. - čišćenje objekta nakon dopreme i ugradbe opreme, - troškovi zaštite na radu

Sheet GR
A1: GRAĐEVINA: Igralište Budimci
A2: INVESTITOR: Općina Podgorač, Trg P. Pejačevića 2, Podgorač
A3: Br.st. | B3: V R S T A R A D A | C3: Jed. mj. | D3: Količina | E3: Jed. Cijena | F3: Ukupno
A5: 1. | B5: PRIPREMNI RADOVI
A8: 1.1 | B8: Uklanjanje raslinja
B9: Ručno ili mehaničko uklanjanje samonikle vegetacije (trave, korova, grmlja) iz pukotina i rubova postojeće asfaltne konstrukcije, uključujući struganje, čupanje i odvoz otpada na deponij. Radovi uključuju i eventualno dodatno čišćenje površine od ostataka zemlje i korijenja radi pripreme za daljnju sanaciju pukotina i presvlačenje. | C9: m2 | D9: 1200 | F9: =D9*E9 -> 0
B11: UKUPNO 1. | F11: =SUM(F9:F9) -> 0
A13: 2. | B13: ZEMLJANI RADOVI
A16: 2.1 | B16: Iskop za rubnjake
B17: Ručni ili strojni iskop tla uz rub postojeće asfaltne površine širine 18 cm i dubine 40 cm radi formiranja ležišta za ugradnju parkovnih rubnjaka dimenzija 8/20 cm. U jediničnu cijenu uključen sav potreban rad, utovar, svi transporti, i zbrinjavanje iskopanog materijala uključivo sa svim taksama i naknadama. Odvoz na deponiju do 10 km udaljenosti. Rad uključuje i eventualno rezanje asfaltne konstrukcije na rubu kolnika radi preciznog spoja s novim rubnjakom. | C17: m' | D17: 160 | F17: =D17*E17 -> 0
A19: 2.2 | B19: Dobava kamena za rubnjake
B20: Dobava i ugradnja (razastiranje i zbijanje) kamena tucanika u debljini 20 cm zbijenog tucanika kao izrada nosivog sloja ispod posteljice rubnjaka. Zbijanje se vrši u slojevima do postizanja odgovarajuće zbijenosti Mz=60 MN/m2. Tucanik granulacije 0/60 mm, težine cca 1600 kg/m³. Obračun prema stvarno izvedenim količinama materijala u zbijenom stanju. | C20: m3 | D20: 30 | F20: =D20*E20 -> 0
A22: 2.1 | B22: Iskop za temeljne stope košarkaških stupova
B23: Ručni ili strojni iskop tla uz rezani rub postojeće asfaltne površine na pozicijama planiranih temeljnih stopa košarkaških stupova, dimenzija 40x40 cm i dubine 80 cm. U jediničnu cijenu uključen sav potreban rad, utovar, svi transporti, i zbrinjavanje iskopanog materijala uključivo sa svim taksama i naknadama. Odvoz na deponiju do 10 km udaljenosti. Rad uključuje zaštitu okolnih asfaltnih površina i pripremu iskopa za betoniranje. Obračun radova po komadu. | C23: kom | D23: 2 | F23: =D23*E23 -> 0
A25: 2.1 | B25: Iskop za temeljne stope ograde
B26: Ručni ili strojni iskop tla na pozicijama planiranih temeljnih stopa ograde, dimenzija 40x40 cm i dubine 80 cm. U jediničnu cijenu uključen sav potreban rad, utovar, svi transporti, i zbrinjavanje iskopanog materijala uključivo sa svim taksama i naknadama. Odvoz na deponiju do 10 km udaljenosti. Rad uključuje zaštitu okolnih asfaltnih površina i pripremu iskopa za betoniranje. Obračun radova po komadu. | C26: kom | D26: 4 | F26: =D26*E26 -> 0
B28: UKUPNO 2. | F28: =SUM(F17:F20) -> 0
A30: 3. | B30: ASFALTNA KONSTRUKCIJA
A33: 3.1 | B33: Ugradnja rubnjaka
B34: Dobava i postavljanje prefabriciranih parkovnih rubnjaka 8/20/50 u svježi beton C20/25. Rubnjaci se postavljaju na minimalno 10 cm debljine sloja betona, te se bočno zalažu betonom sa vanjske strane do 2/3 visine rubnjaka. Potrošnja betona cca 0,03 m³ po m' ugradnje rubnjaka. U cijeni i fugiranje reški između rubnjaka cementnim mortom. Obračun po m' postavljenih rubnjaka. | C34: m' | D34: 160 | F34: =D34*E34 -> 0
A36: 3.2 | B36: Sanacija ruba kolnika pored rubnjaka
B37: Sanacija i ispunjavanje praznina uz rubove postojeće asfaltne konstrukcije nakon ugradnje parkovnih rubnjaka korištenjem svježeg betona klase C20/25. Rad uključuje postavu oplate ako je potrebno, ugradnju, zbijanje i završnu obradu betona u sloju debljine do 6 cm. Betonska masa jednaka onoj korištenoj za ugradnju rubnjaka, radi osiguravanja stabilnosti i povezivanja konstrukcije. Obračun po m' saniranog ruba. | C37: m' | D37: 151 | F37: =D37*E37 -> 0
A39: 3.3 | B39: Rezanje asfaltne povrsine
B40: Strojno rezanje postojeće asfaltne površine na pozicijama temelja stupova za košarkaške koševe, u tlocrtnoj dimenziji 40x40 cm, te uklanjanje i odvoz izrezanog materijala s gradilišta na ovlašteni deponij. Rad uključuje lokalno razbijanje asfalta, zaštitu rubova, pripremu za iskop temelja te čišćenje područja zahvata. Obračun radova po komadu. | C40: kom | D40: 2 | F40: =D40*E40 -> 0
A42: 3.4 | B42: Sanacija spoja stope s postojećim asfaltom
B43: Sanacija spoja između betonske temeljne stope i postojećeg asfalta u prethodno izrezanom otvoru dimenzija 40 x 40 cm. Rad uključuje čišćenje i pripremu kontaktnog područja, nanošenje bitumenske mješavine na spojevima, te eventualnu ugradnju asfaltne mješavine u debljini postojeće asfaltne konstrukcije radi brtvljenja spoja. Obračun po m' saniranog spoja. | C43: m' | D43: 3.2 | F43: =D43*E43 -> 0
A45: 3.5 | B45: Sanacija pukotina
B46: Nanošenje bitumenske mješavine te ispunjavanje pukotina prethodno pripremljenom hladnom bitumenskom mješavinom – ovisno o uvjetima izvođenja). Po potrebi završno posipanje finim suhim agregatom radi sprječavanja lijepljenja. Rad se izvodi u širini pukotina do cca 3 cm. Obračun po m² asfaltne površine. | C46: m2 | D46: 1200 | F46: =D46*E46 -> 0
A48: 3.6 | B48: Novi habajući sloj asfalta
B49: Strojna izrada završnog habajućeg sloja asfalta tipa AC 8 surf, debljine d=3 cm na prethodno pripremljenu podlogu. U cijeni su sadržani svi troškovi nabave materijala, proizvodnje i ugradnje asfaltne mješavine, prijevoz, oprema i ostalo potrebno za potpuno izvođenje radova. Rad uključuje čišćenje površine, dopremu asfaltne mješavine, strojno razastiranje, ručnu doradu rubova i zbijanje valjkom do potpune zbijenosti. Površina mora biti ravna, kompaktna, bez udubljenja i spremna za završno obilježavanje sportskih linija. Obračun po m² položenog i ugrađenog sloja. | C49: m2 | D49: 1200 | F49: =D49*E49 -> 0
B51: UKUPNO 3. | F51: =SUM(F34:F49) -> 0
A53: 4. | B53: ARMIRANO BETONSKI RADOVI
A56: 4.1 | B56: AB stopa stupova za košarkaške koševe
B57: Nabava, doprema i ugradnja betona klase C20/25 u prethodno pripremljeni iskop dimenzija 40 x 40 x 80 cm za temeljne stope stupova košarkaških koševa, uključujući potrebnu oplatu ako je potrebna, armiranje i sve potrebne radove do završetka betonske stope spremne za montažu stupa. Obračun po komadu izvedene temeljne stope. | C57: kom | D57: 2 | F57: =D57*E57 -> 0
A59: 4.1 | B59: AB stopa stupova ograde
B60: Nabava, doprema i ugradnja betona klase C20/25 u prethodno pripremljeni iskop dimenzija 40 x 40 x 80 cm za temeljne stope stupova ograde, uključujući potrebnu oplatu ako je potrebna, armiranje i sve potrebne radove do završetka betonske stope spremne za montažu stupa. Obračun po komadu izvedene temeljne stope. | C60: kom | D60: 4 | F60: =D60*E60 -> 0
B62: UKUPNO 4. | F62: =SUM(F57:F60) -> 0
A64: 5. | B64: OPREMA IGRALIŠTA
A67: 5.1 | B67: Košarkaški koš
B68: Montaža i ugradnja košarkaškog koša sa stupom na prethodno izrađeni temelj, uključujući postavljanje, nivelaciju i sidrenje stupa u temeljnu stopu, učvršćivanje metalne konstrukcije, postavu table, obruča i mrežice, te završnu kontrolu stabilnosti i ispravnosti montaže. Rad uključuje korištenje potrebnog alata, dizanje/pozicioniranje stupa, te završno učvršćivanje prema uputama proizvođača. Obračun po komadu ugrađenog koša. | C68: kom | D68: 2 | F68: =D68*E68 -> 0
A70: 5.2 | B70: Nogometni golovi
B71: Dobava i postava metalnog gola za mali nogomet, unutarnjih dimenzija 300 x 100 x 200 cm, izrađen od pocinčanih kvadratnih čeličnih profila dimenzija 80 x 80 mm. Konstrukcija obojana ili plastificirana u bijelu ili drugu svijetlu boju, uključujući sve potrebne elemente za stabilnu montažu na postojeću asfaltnu površinu (tiplanje ili sidrenje), isporuku i montažu mreža od UV-otpornog sintetičkog materijala te sav potreban montažni pribor. Rad uključuje završnu kontrolu stabilnosti, sigurnosti i funkcionalnosti. Obračun po komadu postavljenog gola. | C71: kom | D71: 2 | F71: =D71*E71 -> 0
A73: 5.3 | B73: Stupovi ograde
B74: Ugradnja čeličnih stupova zaštitne ograde izrađenih od pocinčanih ili plastificiranih čeličnih kvadratnih profila dimenzija 60 x 60 mm i visine 5,00 m, mehaničkim pričvršćenjem (tiplanje ili sidrenje) na prethodno izvedene armiranobetonske temeljne stope dimenzija 40 x 40 x 80 cm. Ugradnja uključuje postavu stupova s čeličnom podložnom pločom, nivelaciju, učvršćenje anker vijcima (najmanje 4 po stupu), te kontrolu vertikalnosti i stabilnosti. Obračun po komadu ugrađenog stupa. | C74: kom | D74: 4 | F74: =D74*E74 -> 0
A76: 5.4 | B76: Zaštitna PVC mreža
B77: Dobava i montaža PVC zaštitne mreže na prethodno ugrađene čelične stupove zaštitne ograde. Mreža visine 4,50 m, oka dimenzija 13 x 13 cm, pričvršćuje se na stupove pomoću spojnih elemenata (napinjača, pocinčanih žica, kopči ili traka). Rad uključuje razmotavanje, zatezanje, poravnavanje i učvršćivanje mreže duž cijele trase ograde, uključujući kutne i završne spojeve. Obračun po m² mreže. | C77: m2 | D77: 62.4 | F77: =D77*E77 -> 0
A79: 5.5 | B79: Oznake na malonogometnom igralištu
B80: Izvedba linija koje služe za detaljno utvrđivanje načina upotrebe označene površine igrališta. Linije su široke 8,00 cm, moraju biti bijele boje, a sve prema grafičkom prilogu iz projekta. Obračun se vrši po m¹ gotove oznake, a u njega ulazi sav potreban materijal i rad do potpunog dovršenja oznake. | C80: m¹ | D80: 199.6 | F80: =ROUND((D80*E80),2) -> 0
A82: 5.5 | B82: Oznake na košarkaškom igralištu
B83: Izvedba linija koje služe za detaljno utvrđivanje načina upotrebe označene površine igrališta. Linije su široke 5,00 cm, moraju biti žute boje, a sve prema grafičkom prilogu iz projekta. Obračun se vrši po m¹ gotove oznake, a u njega ulazi sav potreban materijal i rad do potpunog dovršenja oznake. | C83: m¹ | D83: 171.5 | F83: =ROUND((D83*E83),2) -> 0
B85: UKUPNO 5. | F85: =SUM(F67:F77) -> 0

Sheet REKAP_GOR
A1: =GR!A1 -> GRAĐEVINA: Igralište Budimci
A2: =GR!A2 -> INVESTITOR: Općina Podgorač, Trg P. Pejačevića 2, Podgorač
B13: REKAPITULACIJA:
A15: GRAĐEVINSKO-OBRTNIČKI RADOVI
A16: 1. | B16: PRIPREMNI RADOVI | F16: =GR!F11 -> 0
A17: 2. | B17: ZEMLJANI RADOVI | F17: =GR!F28 -> 0
A18: 3. | B18: ASFALTNA KONSTRUKCIJA | F18: =GR!F51 -> 0
A19: 4. | B19: ARMIRANO BETONSKI RADOVI | F19: =GR!F62 -> 0
A20: 5. | B20: OPREMA IGRALIŠTA | F20: =GR!F85 -> 0
E21: ∑ | F21: =SUM(F16:F20) -> 0
